BEGIN:VCALENDAR
VERSION:2.0
PRODID:icalendar-ruby
CALSCALE:GREGORIAN
METHOD:PUBLISH
BEGIN:VEVENT
DTSTAMP:20260424T003511Z
UID:8-1299945@pvbclincoln.org
DTSTART:20261101T154500Z
DTEND:20261101T164500Z
CLASS:PUBLIC
CREATED:20260423T195905
DESCRIPTION:
LAST-MODIFIED:20260423T195905
LOCATION:Sanctuary
SUMMARY:Sunday Morning Worship
URL;VALUE=URI:https://www.pvbclincoln.org/events/sunday-morning-worship--8/
 2026-11-01
ATTACH;FILENAME=IMG_0381.JPG;FMTTYPE=image/jpeg:https://dq5pwpg1q8ru0.cloud
 front.net/2025/05/20/23/11/38/bb2826ca-0819-475b-b331-50358728299c/IMG_038
 1.JPG
END:VEVENT
END:VCALENDAR
