BEGIN:VCALENDAR
VERSION:2.0
PRODID:icalendar-ruby
CALSCALE:GREGORIAN
METHOD:PUBLISH
BEGIN:VEVENT
DTSTAMP:20260423T231032Z
UID:8-1299440@pvbclincoln.org
DTSTART:20261025T144500Z
DTEND:20261025T154500Z
CLASS:PUBLIC
CREATED:20260423T170553
DESCRIPTION:
LAST-MODIFIED:20260423T170553
LOCATION:Sanctuary
SUMMARY:Sunday Morning Worship
URL;VALUE=URI:https://www.pvbclincoln.org/events/sunday-morning-worship--8/
 2026-10-25
ATTACH;FILENAME=IMG_0381.JPG;FMTTYPE=image/jpeg:https://dq5pwpg1q8ru0.cloud
 front.net/2025/05/20/23/11/38/bb2826ca-0819-475b-b331-50358728299c/IMG_038
 1.JPG
END:VEVENT
END:VCALENDAR
