BEGIN:VCALENDAR
VERSION:2.0
PRODID:icalendar-ruby
CALSCALE:GREGORIAN
METHOD:PUBLISH
BEGIN:VEVENT
DTSTAMP:20260422T114050Z
UID:31-1294803@pvbclincoln.org
DTSTART:20260916T223000Z
DTEND:20260917T003000Z
CLASS:PUBLIC
CREATED:20260421T211422
DESCRIPTION:Join us for a great time of fellowship\, bible study and family
  fun.\nNo prep needed\, everyone welcome. No pressure or expectations.\nBr
 ing the kids ! There is a safe place for them to play while we study.\nChe
 ck out our page on FaceBook for updates. ( PVBC Young Family Group )
LAST-MODIFIED:20260421T211422
LOCATION:15588 KY. HWY 1247 Waynesburg Ky 40489
SUMMARY:PVBC Young Family Bible Study
URL;VALUE=URI:https://www.pvbclincoln.org/events/pvbc-young-family-bible-st
 udy/2026-09-16
ATTACH;FILENAME=493605807_122100650648906058_1794161504210740926_n.jpg;FMTT
 YPE=image/jpeg:https://dq5pwpg1q8ru0.cloudfront.net/2025/08/06/20/48/52/aa
 3598c7-a3fc-4bbb-a903-252e2be99da8/493605807_122100650648906058_1794161504
 210740926_n.jpg
END:VEVENT
END:VCALENDAR
