BEGIN:VCALENDAR
VERSION:2.0
PRODID:icalendar-ruby
CALSCALE:GREGORIAN
METHOD:PUBLISH
BEGIN:VEVENT
DTSTAMP:20260423T193840Z
UID:15-1299260@pvbclincoln.org
DTSTART:20260926T120000Z
DTEND:20260926T140000Z
CLASS:PUBLIC
CREATED:20260423T141032
DESCRIPTION:Come to feed your body and your soul !
LAST-MODIFIED:20260423T141032
LOCATION:Pleasant View Baptist Church - Fellowship Hall
SUMMARY:PVBC Men's Prayer/Devotional Breakfast
URL;VALUE=URI:https://www.pvbclincoln.org/events/pvbc-mens-prayer-devotiona
 l-breakfast/2026-09-26
ATTACH;FILENAME=Fjuv.jpg;FMTTYPE=image/jpeg:https://dq5pwpg1q8ru0.cloudfron
 t.net/2024/12/02/19/37/51/f2e20b49-7133-4402-8059-ef5609c02034/Fjuv.jpg
END:VEVENT
END:VCALENDAR
